BEGIN:VCALENDAR
VERSION:2.0
PRODID:-//Lakeside Point Gardens - ECPv6.15.20//NONSGML v1.0//EN
CALSCALE:GREGORIAN
METHOD:PUBLISH
X-WR-CALNAME:Lakeside Point Gardens
X-ORIGINAL-URL:https://lakesidepointgardens.net
X-WR-CALDESC:Events for Lakeside Point Gardens
REFRESH-INTERVAL;VALUE=DURATION:PT1H
X-Robots-Tag:noindex
X-PUBLISHED-TTL:PT1H
BEGIN:VTIMEZONE
TZID:UTC
BEGIN:STANDARD
TZOFFSETFROM:+0000
TZOFFSETTO:+0000
TZNAME:UTC
DTSTART:20250101T000000
END:STANDARD
END:VTIMEZONE
BEGIN:VEVENT
DTSTART;TZID=UTC:20260220T170000
DTEND;TZID=UTC:20260220T210000
DTSTAMP:20260423T235226
CREATED:20260103T130034Z
LAST-MODIFIED:20260103T130034Z
UID:2955-1771606800-1771621200@lakesidepointgardens.net
SUMMARY:Meet-N-Greet
DESCRIPTION:Meet N’ Greet Friday Dates. Meet at the pool at 5:00PM \n(Please bring a shareable snack and your own beverage)
URL:https://lakesidepointgardens.net/event/meet-n-greet-3/
END:VEVENT
BEGIN:VEVENT
DTSTART;TZID=UTC:20260306T170000
DTEND;TZID=UTC:20260306T210000
DTSTAMP:20260423T235226
CREATED:20260103T130202Z
LAST-MODIFIED:20260103T130202Z
UID:2957-1772816400-1772830800@lakesidepointgardens.net
SUMMARY:Meet-N-Greet
DESCRIPTION:Meet N’ Greet Friday Dates. Meet at the pool at 5:00PM \n(Please bring a shareable snack and your own beverage)
URL:https://lakesidepointgardens.net/event/meet-n-greet-4/
END:VEVENT
BEGIN:VEVENT
DTSTART;TZID=UTC:20260310T190000
DTEND;TZID=UTC:20260310T203000
DTSTAMP:20260423T235226
CREATED:20260225T125429Z
LAST-MODIFIED:20260225T125842Z
UID:3017-1773169200-1773174600@lakesidepointgardens.net
SUMMARY:Presidents Council Meeting
DESCRIPTION:                                 LAKESIDE POINT GARDENS RECREATION PRESIDENT’S COUNCIL MEETING \n                        AGENDA FOR \n                  TUESDAY\, MARCH 10\, 2026 @ 7:00 P.M. IN THE CLUBHOUSE  \n__________________________________________________________________________________________________ \n  \nMEETING CALL TO ORDER: CAL KNOL \n  \nROLL CALL: BEV KNOL \n  \nAPPROVAL OF MINUTES FOR FEBRUARY 10\, 2026 \n  \nINTRODUCTION OF EVA CARREA \n  \nREVIEW & APPROVAL OF FINANCIAL REPORT FOR FEBRUARY 2026 \n  \n _________________________________________________________________________________________________ \n  \nCOMMITTEES: \n  \nCLUBHOUSE: ROBERT PICKARD \n  \nPOOL & RECREATION: ROBERT PICKARD  \n  \nSHUFFLEBOARD: ROBERT PICKARD \n                                 \nLAWN/LANDSCAPING/GROUNDS: PAM TULCHINSKI \n  \nCRAFT CLUB:  \n  \nCLUB 2180: CAL KNOL (REMAINING EVENTS) \n  \nWEBMASTER: ED CAMPAGNUOLA \n_________________________________________________________________________________________________ \n  \nOLD BUSINESS: \n  \nNEW BUSINESS: \n  \nCOMMUNITY COMMENTS: \n  \nNEXT MEETING: APRIL 14\, 2026 @ 7:00 P.M.  \n  \nADJOURNMENT
URL:https://lakesidepointgardens.net/event/presidents-council-meeting/
END:VEVENT
BEGIN:VEVENT
DTSTART;TZID=UTC:20260320T170000
DTEND;TZID=UTC:20260320T210000
DTSTAMP:20260423T235226
CREATED:20260103T131005Z
LAST-MODIFIED:20260103T131005Z
UID:2965-1774026000-1774040400@lakesidepointgardens.net
SUMMARY:Final event on March 20 TBD
DESCRIPTION:Final event on March 20 TBD
URL:https://lakesidepointgardens.net/event/final-event-on-march-20-tbd/
END:VEVENT
BEGIN:VEVENT
DTSTART;TZID=UTC:20260327T170000
DTEND;TZID=UTC:20260327T210000
DTSTAMP:20260423T235226
CREATED:20260103T130310Z
LAST-MODIFIED:20260103T130310Z
UID:2959-1774630800-1774645200@lakesidepointgardens.net
SUMMARY:Meet-N-Greet
DESCRIPTION:Meet N’ Greet Friday Dates. Meet at the pool at 5:00PM \n(Please bring a shareable snack and your own beverage)
URL:https://lakesidepointgardens.net/event/meet-n-greet-5/
END:VEVENT
BEGIN:VEVENT
DTSTART;TZID=UTC:20260414T190000
DTEND;TZID=UTC:20260414T203000
DTSTAMP:20260423T235226
CREATED:20260331T175458Z
LAST-MODIFIED:20260331T175458Z
UID:3031-1776193200-1776198600@lakesidepointgardens.net
SUMMARY:Presidents Council Agenda
DESCRIPTION:                                 LAKESIDE POINT GARDENS RECREATION PRESIDENT’S COUNCIL MEETING \n                        AGENDA FOR \n                  TUESDAY\, APRIL 14\, 2026 @ 7:00 P.M. IN THE CLUBHOUSE  \n__________________________________________________________________________________________________ \n  \nMEETING CALL TO ORDER: CAL KNOL \n  \nROLL CALL: BEV KNOL \n  \nAPPROVAL OF MINUTES FOR MARCH 10\, 2026: CAL KNOL \n \nREVIEW & APPROVAL OF FINANCIAL REPORT FOR MARCH AND YTD 2026: EVA CORREA \n  \n _________________________________________________________________________________________________ \n  \nCOMMITTEES: \n  \nCLUBHOUSE: REPLACEMENT OF CURRENT PORTABLE SCREEN; INTERIOR PAINTING ESTIMATE – CAL KNOL \n  \nPOOL & RECREATION: ROBERT PICKARD  \n  \nSHUFFLEBOARD: ROBERT PICKARD \n                                 \nLAWN/LANDSCAPING/GROUNDS: PAM TULCHINSKI & MIKE TOBER \n  \nBINGO: \n  \nCRAFT CLUB:  \n  \nCLUB 2180: CAL KNOL \n  \nWEBMASTER: ED CAMPAGNUOLA \n_________________________________________________________________________________________________ \n  \nOLD BUSINESS: \n  \nNEW BUSINESS: \n  \nCOMMUNITY COMMENTS: \n  \nNEXT MEETING: NOVEMBER 10\, 2026 @ 7:00 P.M.  \n  \nADJOURNMENT
URL:https://lakesidepointgardens.net/event/presidents-council-agenda/
END:VEVENT
END:VCALENDAR