BEGIN:VCALENDAR
VERSION:2.0
PRODID:-//Lakeside Point Gardens - ECPv6.15.20//NONSGML v1.0//EN
CALSCALE:GREGORIAN
METHOD:PUBLISH
X-WR-CALNAME:Lakeside Point Gardens
X-ORIGINAL-URL:https://lakesidepointgardens.net
X-WR-CALDESC:Events for Lakeside Point Gardens
REFRESH-INTERVAL;VALUE=DURATION:PT1H
X-Robots-Tag:noindex
X-PUBLISHED-TTL:PT1H
BEGIN:VTIMEZONE
TZID:UTC
BEGIN:STANDARD
TZOFFSETFROM:+0000
TZOFFSETTO:+0000
TZNAME:UTC
DTSTART:20250101T000000
END:STANDARD
END:VTIMEZONE
BEGIN:VEVENT
DTSTART;TZID=UTC:20260210T190000
DTEND;TZID=UTC:20260210T203000
DTSTAMP:20260423T213618
CREATED:20260128T145944Z
LAST-MODIFIED:20260128T145944Z
UID:3003-1770750000-1770755400@lakesidepointgardens.net
SUMMARY:Presidents Council Meeting
DESCRIPTION:                                 LAKESIDE POINT GARDENS RECREATION PRESIDENT’S COUNCIL MEETING \n                        AGENDA FOR \n                  TUESDAY\, FEBRUARY 10\, 2026 @ 7:00 P.M. IN THE CLUBHOUSE  \n__________________________________________________________________________________________________ \n  \nMEETING CALL TO ORDER: CAL KNOL \n  \nROLL CALL: BEV KNOL \n  \nAPPROVAL OF MINUTES FOR JANUARY 13\, 2026 \n \nREVIEW & APPROVAL OF FINANCIAL REPORT FOR JANUARY 2026 \n  \nINTRODUCTION OF EVA CARREA \n  \nELECTION AND/OR RETENTION OF COUNCIL OFFICERS \n  \n _________________________________________________________________________________________________ \n  \nCOMMITTEES: \n  \nCLUBHOUSE: ROBERT PICKARD \n  \nPOOL & RECREATION: ROBERT PICKARD  \n  \nSHUFFLEBOARD: ROBERT PICKARD \n                                 \nLAWN/LANDSCAPING/GROUNDS: PAM TULCHINSKI \n  \nBINGO: HELEN MARINO \n  \nCRAFT CLUB: HELEN MARINO \n  \nCLUB 2180: CAL KNOL (VALENTINES DAY DINNER AND FRIDAY MEET GREETS) \n  \nWEBMASTER: ED CAMPAGNUOLA \n_________________________________________________________________________________________________ \n  \nOLD BUSINESS: \n  \nNEW BUSINESS: \n  \nCOMMUNITY COMMENTS: \n  \nNEXT MEETING: MARCH 10\, 2026 @ 7:00
URL:https://lakesidepointgardens.net/event/presidents-council-meeting-3/
END:VEVENT
BEGIN:VEVENT
DTSTART;TZID=UTC:20260201T130000
DTEND;TZID=UTC:20260201T170000
DTSTAMP:20260423T213618
CREATED:20260121T210430Z
LAST-MODIFIED:20260121T210430Z
UID:2979-1769950800-1769965200@lakesidepointgardens.net
SUMMARY:Beverly Hartman Celebration of Life
DESCRIPTION:Remembering Beverly Hartman\, a celebration of life.
URL:https://lakesidepointgardens.net/event/beverly-hartman-celebration-of-life/
END:VEVENT
BEGIN:VEVENT
DTSTART;TZID=UTC:20260130T170000
DTEND;TZID=UTC:20260130T210000
DTSTAMP:20260423T213618
CREATED:20260103T125923Z
LAST-MODIFIED:20260103T125923Z
UID:2953-1769792400-1769806800@lakesidepointgardens.net
SUMMARY:Meet-N-Greet
DESCRIPTION:Meet N’ Greet Friday Dates. Meet at the pool at 5:00PM \n(Please bring a shareable snack and your own beverage)
URL:https://lakesidepointgardens.net/event/meet-n-greet-2/
END:VEVENT
BEGIN:VEVENT
DTSTART;TZID=UTC:20260123T170000
DTEND;TZID=UTC:20260123T200000
DTSTAMP:20260423T213618
CREATED:20260121T205827Z
LAST-MODIFIED:20260121T205827Z
UID:2977-1769187600-1769198400@lakesidepointgardens.net
SUMMARY:Potluck Dinner
DESCRIPTION:Potluck Dinner on January 23 \nBring your favorite Hot Dish\, Salad or Dessert \n(Doors open at 5\, dinner at 5:30) \n50/50 Raffle
URL:https://lakesidepointgardens.net/event/potluck-dinner/
END:VEVENT
END:VCALENDAR