BEGIN:VCALENDAR
VERSION:2.0
PRODID:-//Lakeside Point Gardens - ECPv6.15.20//NONSGML v1.0//EN
CALSCALE:GREGORIAN
METHOD:PUBLISH
X-WR-CALNAME:Lakeside Point Gardens
X-ORIGINAL-URL:https://lakesidepointgardens.net
X-WR-CALDESC:Events for Lakeside Point Gardens
REFRESH-INTERVAL;VALUE=DURATION:PT1H
X-Robots-Tag:noindex
X-PUBLISHED-TTL:PT1H
BEGIN:VTIMEZONE
TZID:UTC
BEGIN:STANDARD
TZOFFSETFROM:+0000
TZOFFSETTO:+0000
TZNAME:UTC
DTSTART:20250101T000000
END:STANDARD
END:VTIMEZONE
BEGIN:VEVENT
DTSTART;TZID=UTC:20260306T170000
DTEND;TZID=UTC:20260306T210000
DTSTAMP:20260423T164946
CREATED:20260103T130202Z
LAST-MODIFIED:20260103T130202Z
UID:2957-1772816400-1772830800@lakesidepointgardens.net
SUMMARY:Meet-N-Greet
DESCRIPTION:Meet N’ Greet Friday Dates. Meet at the pool at 5:00PM \n(Please bring a shareable snack and your own beverage)
URL:https://lakesidepointgardens.net/event/meet-n-greet-4/
END:VEVENT
END:VCALENDAR