BEGIN:VCALENDAR
VERSION:2.0
PRODID:-//Lakeside Point Gardens - ECPv6.15.20//NONSGML v1.0//EN
CALSCALE:GREGORIAN
METHOD:PUBLISH
X-ORIGINAL-URL:https://lakesidepointgardens.net
X-WR-CALDESC:Events for Lakeside Point Gardens
REFRESH-INTERVAL;VALUE=DURATION:PT1H
X-Robots-Tag:noindex
X-PUBLISHED-TTL:PT1H
BEGIN:VTIMEZONE
TZID:UTC
BEGIN:STANDARD
TZOFFSETFROM:+0000
TZOFFSETTO:+0000
TZNAME:UTC
DTSTART:20250101T000000
END:STANDARD
END:VTIMEZONE
BEGIN:VEVENT
DTSTART;TZID=UTC:20260201T130000
DTEND;TZID=UTC:20260201T170000
DTSTAMP:20260423T183231
CREATED:20260121T210430Z
LAST-MODIFIED:20260121T210430Z
UID:2979-1769950800-1769965200@lakesidepointgardens.net
SUMMARY:Beverly Hartman Celebration of Life
DESCRIPTION:Remembering Beverly Hartman\, a celebration of life.
URL:https://lakesidepointgardens.net/event/beverly-hartman-celebration-of-life/
END:VEVENT
END:VCALENDAR